BEGIN:VCALENDAR
VERSION:2.0
PRODID:-//Atelier floral Florence LANGE - ECPv6.15.11//NONSGML v1.0//EN
CALSCALE:GREGORIAN
METHOD:PUBLISH
X-ORIGINAL-URL:https://atelierfloralflorencelange.com
X-WR-CALDESC:Évènements pour Atelier floral Florence LANGE
REFRESH-INTERVAL;VALUE=DURATION:PT1H
X-Robots-Tag:noindex
X-PUBLISHED-TTL:PT1H
BEGIN:VTIMEZONE
TZID:Europe/Paris
BEGIN:DAYLIGHT
TZOFFSETFROM:+0100
TZOFFSETTO:+0200
TZNAME:CEST
DTSTART:20240331T010000
END:DAYLIGHT
BEGIN:STANDARD
TZOFFSETFROM:+0200
TZOFFSETTO:+0100
TZNAME:CET
DTSTART:20241027T010000
END:STANDARD
BEGIN:DAYLIGHT
TZOFFSETFROM:+0100
TZOFFSETTO:+0200
TZNAME:CEST
DTSTART:20250330T010000
END:DAYLIGHT
BEGIN:STANDARD
TZOFFSETFROM:+0200
TZOFFSETTO:+0100
TZNAME:CET
DTSTART:20251026T010000
END:STANDARD
BEGIN:DAYLIGHT
TZOFFSETFROM:+0100
TZOFFSETTO:+0200
TZNAME:CEST
DTSTART:20260329T010000
END:DAYLIGHT
BEGIN:STANDARD
TZOFFSETFROM:+0200
TZOFFSETTO:+0100
TZNAME:CET
DTSTART:20261025T010000
END:STANDARD
END:VTIMEZONE
BEGIN:VEVENT
DTSTART;VALUE=DATE:20251129
DTEND;VALUE=DATE:20251130
DTSTAMP:20260421T010626
CREATED:20250902T190416Z
LAST-MODIFIED:20250902T190416Z
UID:1080-1764374400-1764460799@atelierfloralflorencelange.com
SUMMARY:Samedi 29/11 Atelier bois
DESCRIPTION:Fabriquer son sapin en bois à l’atelier de florence\n\n\nLaissez libre cours à votre imagination ! apprenez à composer votre propre création florale dans une ambiance conviviale et chaleureuse.\n\n\nInscription à l’atelier :\n\n\nVeuillez activer JavaScript dans votre navigateur pour remplir ce formulaire.Veuillez activer JavaScript dans votre navigateur pour remplir ce formulaire.Nom *PrénomNom		\n			bois atelier dates\n			\n		\n		E-mail *SANSY-LES-PROVINS atelier bois | dates des mercredis et samedis d'ateliers souhaitées : *Mercredi 22 octobre 2025Samedi 25 octobre 2025Samedi 4 novembre 2025Mercredi 5 novembre 2025Samedi 22 novembre 2025Mercredi 26 novembre 2025Samedi 29 novembre 2025Mercredi 14 janvier 2026Mercredi 3 décembre 2025Mercredi 4 février 2026Samedi 7 février 2026Mercredi 18 mars 2026Samedi 21 mars 2026Mercredi 8 avril 2026Samedi 11 avril 2026Mercredi 10 juin 2026Samedi 13 juin 2026Envoyer  \n\n\n\nPaiement par chèque\, espèce ou CB en présentiel\n\n\n\nVous pouvez également vous inscrire au trimestre ou à l’année
URL:https://atelierfloralflorencelange.com/event/samedi-29-11-atelier-bois/
LOCATION:Sancy-les-Provins\, 10 rue du pont\, 77320 Sancy les Provins\, France
CATEGORIES:atelier bois
ATTACH;FMTTYPE=image/jpeg:https://atelierfloralflorencelange.com/wp-content/uploads/2025/02/atelier-floral-floren-LANGE_bois9-scaled.jpeg
END:VEVENT
END:VCALENDAR