BEGIN:VCALENDAR
VERSION:2.0
PRODID:-//Atelier floral Florence LANGE - ECPv6.15.11//NONSGML v1.0//EN
CALSCALE:GREGORIAN
METHOD:PUBLISH
X-WR-CALNAME:Atelier floral Florence LANGE
X-ORIGINAL-URL:https://atelierfloralflorencelange.com
X-WR-CALDESC:Évènements pour Atelier floral Florence LANGE
REFRESH-INTERVAL;VALUE=DURATION:PT1H
X-Robots-Tag:noindex
X-PUBLISHED-TTL:PT1H
BEGIN:VTIMEZONE
TZID:Europe/Paris
BEGIN:DAYLIGHT
TZOFFSETFROM:+0100
TZOFFSETTO:+0200
TZNAME:CEST
DTSTART:20250330T010000
END:DAYLIGHT
BEGIN:STANDARD
TZOFFSETFROM:+0200
TZOFFSETTO:+0100
TZNAME:CET
DTSTART:20251026T010000
END:STANDARD
BEGIN:DAYLIGHT
TZOFFSETFROM:+0100
TZOFFSETTO:+0200
TZNAME:CEST
DTSTART:20260329T010000
END:DAYLIGHT
BEGIN:STANDARD
TZOFFSETFROM:+0200
TZOFFSETTO:+0100
TZNAME:CET
DTSTART:20261025T010000
END:STANDARD
BEGIN:DAYLIGHT
TZOFFSETFROM:+0100
TZOFFSETTO:+0200
TZNAME:CEST
DTSTART:20270328T010000
END:DAYLIGHT
BEGIN:STANDARD
TZOFFSETFROM:+0200
TZOFFSETTO:+0100
TZNAME:CET
DTSTART:20271031T010000
END:STANDARD
END:VTIMEZONE
BEGIN:VEVENT
DTSTART;TZID=Europe/Paris:20260313T143000
DTEND;TZID=Europe/Paris:20260313T170000
DTSTAMP:20260420T174345
CREATED:20250902T111443Z
LAST-MODIFIED:20250902T181625Z
UID:963-1773412200-1773421200@atelierfloralflorencelange.com
SUMMARY:Vendredi 13/03 à Esternay
DESCRIPTION:Atelier d’art floral avec Florence LANGE\n\n\n\n\n\nLaissez libre cours à votre imagination ! apprenez à composer votre propre création florale dans une ambiance conviviale et chaleureuse. \n\n\n\n\n\nInscription à l’atelier :\n\n\nVeuillez activer JavaScript dans votre navigateur pour remplir ce formulaire.Veuillez activer JavaScript dans votre navigateur pour remplir ce formulaire.Nom *PrénomNom		\n			| d'ateliers Nom\n			\n		\n		E-mail *ESTERNAY atelier floral | dates des vendredis d'ateliers : *Vendredi 12 septembre 2025Vendredi 10 octobre 2025Vendredi 7 novembre 2025Vendredi 12 décembre 2025Vendredi 23 janvier 2026Vendredi 27 février 2026Vendredi 13 mars 2026Vendredi 3 avril 2026Vendredi 15 mai 2026Vendredi 12 juin 2026Envoyer  \n\n\n\nPaiement par chèque\, espèce ou CB en présentiel \n\n\n\nVous pouvez également vous inscrire au trimestre ou à l’année \n\n\n\nLe trimestre = 115\,00 € ou l’année complète= 385\,00 €
URL:https://atelierfloralflorencelange.com/event/vendredi-13-03-a-esternay/
LOCATION:Esternay\, salle MTL\, Esternay 51320\, France
CATEGORIES:cours floral
ATTACH;FMTTYPE=image/jpeg:https://atelierfloralflorencelange.com/wp-content/uploads/2025/03/CoursFloralFlorenceLANGE_3.jpg
END:VEVENT
BEGIN:VEVENT
DTSTART;TZID=Europe/Paris:20260317T200000
DTEND;TZID=Europe/Paris:20260317T220000
DTSTAMP:20260420T174345
CREATED:20250902T183155Z
LAST-MODIFIED:20250902T183558Z
UID:1032-1773777600-1773784800@atelierfloralflorencelange.com
SUMMARY:Mardi 17/03 à Vaudoy en Brie
DESCRIPTION:Atelier d’art floral avec Florence LANGE\n\n\n\n\n\nLaissez libre cours à votre imagination ! apprenez à composer votre propre création florale dans une ambiance conviviale et chaleureuse. \n\n\n\n\n\nInscription à l’atelier :\n\n\nVeuillez activer JavaScript dans votre navigateur pour remplir ce formulaire.Veuillez activer JavaScript dans votre navigateur pour remplir ce formulaire.		\n			atelier VAUDOY Nom\n			\n		\n		Nom *PrénomNomE-mail *VAUDOY EN BRIE atelier floral | dates des mardis d'ateliers souhaitées : *Mardi 23 septembre 2025Mardi 14 octobre 2025Mardi 18 novembre 2025Mardi 16 décembre 2025Mardi 20 janvier 2026Mardi 17 février 2026Mardi 17 mars 2026Mardi 14 avril 2026Mardi 19 mai 2026Mardi 16 juin 2026Envoyer  \n\n\n\nPaiement par chèque\, espèce ou CB en présentiel \n\n\n\nVous pouvez également vous inscrire au trimestre ou à l’année \n\n\n\nLe trimestre = 115\,00 € ou l’année complète= 385\,00 €
URL:https://atelierfloralflorencelange.com/event/mardi-17-03-a-vaudoy-en-brie/
LOCATION:Vaudoy en Brie\, salle de la mairie\, Vaudoy en Brie 77141\, France
CATEGORIES:cours floral
ATTACH;FMTTYPE=image/jpeg:https://atelierfloralflorencelange.com/wp-content/uploads/2025/03/Atelier-floral-florence-LANGE.jpg
END:VEVENT
BEGIN:VEVENT
DTSTART;TZID=Europe/Paris:20260319T143000
DTEND;TZID=Europe/Paris:20260319T170000
DTSTAMP:20260420T174345
CREATED:20250902T181822Z
LAST-MODIFIED:20250902T181822Z
UID:1014-1773930600-1773939600@atelierfloralflorencelange.com
SUMMARY:Jeudi 19/03 à Barbonne Fayel
DESCRIPTION:Atelier d’art floral avec Florence LANGE\n\n\nLaissez libre cours à votre imagination !\n\n\n\napprenez à composer votre propre création florale dans une ambiance conviviale et chaleureuse.\n\n\n\n\n\n\nInscription à l’atelier :\n Veuillez activer JavaScript dans votre navigateur pour remplir ce formulaire.Veuillez activer JavaScript dans votre navigateur pour remplir ce formulaire.Nom *PrénomNom		\n			| : d'ateliers\n			\n		\n		E-mail *BARBONNE FAYEL atelier floral | dates des jeudis d'ateliers souhaitées : *Jeudi 25 septembre 2025Jeudi 30 octobre 2025Jeudi 20 novembre 2025Jeudi 18 décembre 2025Jeudi 29 janvier 2026Jeudi 12 février 2026Jeudi 19 mars 2026Jeudi 16 avril 2026Jeudi 28 mai 2026Jeudi 18 juin 2026Envoyer   \n\n\n\nPaiement Par chèque\, espèce ou CB en présentiel\n\n\n\nVous pouvez également vous inscrire au trimestre ou à l’année\n\n\n\nLe trimestre = 115\,00 € ou l’année complète= 385\,00 €\n\n\n\n 
URL:https://atelierfloralflorencelange.com/event/jeudi-19-03-a-barbonne-fayel/
LOCATION:Barbonne Fayel\, salles des fêtes\, Barbonne Fayel 51320\, France
CATEGORIES:cours floral
ATTACH;FMTTYPE=image/jpeg:https://atelierfloralflorencelange.com/wp-content/uploads/2025/03/CoursFloralFlorenceLANGE_5.jpg
END:VEVENT
BEGIN:VEVENT
DTSTART;TZID=Europe/Paris:20260326T193000
DTEND;TZID=Europe/Paris:20260326T210000
DTSTAMP:20260420T174345
CREATED:20250902T180017Z
LAST-MODIFIED:20250902T181622Z
UID:983-1774553400-1774558800@atelierfloralflorencelange.com
SUMMARY:Jeudi 26/03 à Choisy-en-Brie
DESCRIPTION:Atelier d’art floral avec Florence LANGE\n\n\n\n\n\nLaissez libre cours à votre imagination ! apprenez à composer votre propre création florale dans une ambiance conviviale et chaleureuse. \n\n\n\n\n\nInscription à l’atelier :\n\n\nVeuillez activer JavaScript dans votre navigateur pour remplir ce formulaire.Veuillez activer JavaScript dans votre navigateur pour remplir ce formulaire.Nom *PrénomNom		\n			jeudis | d'ateliers\n			\n		\n		E-mail *CHOISY EN BRIE atelier floral | dates des jeudis d'ateliers souhaitées : *Jeudi 18 septembre 2025Jeudi 9 octobre 2025Jeudi 27 novembre 2025Jeudi 11 décembre 2025Jeudi 22 janvier 2026Jeudi 19 février 2026Jeudi 26 mars 2026Jeudi 9 avril 2026Jeudi 21 mai 2026Jeudi 25 juin 2026Envoyer  \n\n\n\nPaiement par chèque\, espèce ou CB en présentiel \n\n\n\nVous pouvez également vous inscrire au trimestre ou à l’année \n\n\n\nLe trimestre = 115\,00 € ou l’année complète= 385\,00 €
URL:https://atelierfloralflorencelange.com/event/jeudi-26-03-a-choisy-en-brie/
LOCATION:Choisy en Brie\, mairie de Choisy en Brie\, Choisy en Brie\, 77320\, France
CATEGORIES:cours floral
ATTACH;FMTTYPE=image/jpeg:https://atelierfloralflorencelange.com/wp-content/uploads/2025/03/CoursFloralFlorenceLANGE_1.jpg
END:VEVENT
BEGIN:VEVENT
DTSTART;TZID=Europe/Paris:20260327T143000
DTEND;TZID=Europe/Paris:20260327T170000
DTSTAMP:20260420T174345
CREATED:20250902T184540Z
LAST-MODIFIED:20250902T184540Z
UID:1056-1774621800-1774630800@atelierfloralflorencelange.com
SUMMARY:Vendredi 27/03 à Provins
DESCRIPTION:Atelier d’art floral avec Florence LANGE\n\n\nLaissez libre cours à votre imagination !\n\napprenez à composer votre propre création florale dans une ambiance conviviale et chaleureuse.\n\n\nInscription à l’atelier :\n\n\nVeuillez activer JavaScript dans votre navigateur pour remplir ce formulaire.Veuillez activer JavaScript dans votre navigateur pour remplir ce formulaire.Nom *PrénomNomE-mail *		\n			atelier vendredis floral\n			\n		\n		PROVINS inscription atelier floral | dates des vendredis d'ateliers souhaitées : *Vendredi 26 septembre 2025Vendredi 31 octobre 2025Vendredi 28 novembre 2025Vendredi 5 décembre 2025Vendredi 30 janvier 2026Vendredi 13 février 2026Vendredi 27 mars 2026Vendredi 10 avril 2026Vendredi 29 mai 2026Vendredi 19 juin 2026Envoyer  \n\n\n\nPaiement par chèque\, espèce ou CB en présentiel\n\n\n\nVous pouvez également vous inscrire au trimestre ou à l’année\n\n\n\nLe trimestre = 115\,00 € ou l’année complète= 385\,00 €
URL:https://atelierfloralflorencelange.com/event/vendredi-27-03-a-provins/
LOCATION:Provins\, salle André Dujard\, Provins 77160\, France
CATEGORIES:cours floral
ATTACH;FMTTYPE=image/jpeg:https://atelierfloralflorencelange.com/wp-content/uploads/2025/03/CoursFloralFlorenceLANGE_2.jpg
END:VEVENT
END:VCALENDAR