BEGIN:VCALENDAR
VERSION:2.0
PRODID:-//Atelier floral Florence LANGE - ECPv6.15.11//NONSGML v1.0//EN
CALSCALE:GREGORIAN
METHOD:PUBLISH
X-ORIGINAL-URL:https://atelierfloralflorencelange.com
X-WR-CALDESC:Évènements pour Atelier floral Florence LANGE
REFRESH-INTERVAL;VALUE=DURATION:PT1H
X-Robots-Tag:noindex
X-PUBLISHED-TTL:PT1H
BEGIN:VTIMEZONE
TZID:Europe/Paris
BEGIN:DAYLIGHT
TZOFFSETFROM:+0100
TZOFFSETTO:+0200
TZNAME:CEST
DTSTART:20240331T010000
END:DAYLIGHT
BEGIN:STANDARD
TZOFFSETFROM:+0200
TZOFFSETTO:+0100
TZNAME:CET
DTSTART:20241027T010000
END:STANDARD
BEGIN:DAYLIGHT
TZOFFSETFROM:+0100
TZOFFSETTO:+0200
TZNAME:CEST
DTSTART:20250330T010000
END:DAYLIGHT
BEGIN:STANDARD
TZOFFSETFROM:+0200
TZOFFSETTO:+0100
TZNAME:CET
DTSTART:20251026T010000
END:STANDARD
BEGIN:DAYLIGHT
TZOFFSETFROM:+0100
TZOFFSETTO:+0200
TZNAME:CEST
DTSTART:20260329T010000
END:DAYLIGHT
BEGIN:STANDARD
TZOFFSETFROM:+0200
TZOFFSETTO:+0100
TZNAME:CET
DTSTART:20261025T010000
END:STANDARD
END:VTIMEZONE
BEGIN:VEVENT
DTSTART;TZID=Europe/Paris:20250912T143000
DTEND;TZID=Europe/Paris:20250912T170000
DTSTAMP:20260423T004642
CREATED:20250310T081609Z
LAST-MODIFIED:20250902T110310Z
UID:643-1757687400-1757696400@atelierfloralflorencelange.com
SUMMARY:Vendredi 12/09 à Esternay
DESCRIPTION:Atelier d’art floral avec Florence LANGE\n\n\n\n\n\nLaissez libre cours à votre imagination ! \napprenez à composer votre propre création florale dans une ambiance conviviale et chaleureuse. \n\n\n\n\n\nInscription à l’atelier :\n\n\nVeuillez activer JavaScript dans votre navigateur pour remplir ce formulaire.Veuillez activer JavaScript dans votre navigateur pour remplir ce formulaire.		\n			floral atelier des\n			\n		\n		Nom *PrénomNomE-mail *ESTERNAY atelier floral | dates des vendredis d'ateliers : *Vendredi 12 septembre 2025Vendredi 10 octobre 2025Vendredi 7 novembre 2025Vendredi 12 décembre 2025Vendredi 23 janvier 2026Vendredi 27 février 2026Vendredi 13 mars 2026Vendredi 3 avril 2026Vendredi 15 mai 2026Vendredi 12 juin 2026Envoyer  \n\n\n\nPaiement par chèque\, espèce ou CB en présentiel \n\n\n\nVous pouvez également vous inscrire au trimestre ou à l’année \n\n\n\nLe trimestre = 115\,00 € ou l’année complète= 385\,00 €
URL:https://atelierfloralflorencelange.com/event/13-juin-a-esternay/
LOCATION:Esternay\, salle MTL\, Esternay 51320\, France
CATEGORIES:cours floral
ATTACH;FMTTYPE=image/jpeg:https://atelierfloralflorencelange.com/wp-content/uploads/2025/03/CoursFloralFlorenceLANGE_3.jpg
END:VEVENT
BEGIN:VEVENT
DTSTART;TZID=Europe/Paris:20250918T193000
DTEND;TZID=Europe/Paris:20250918T213000
DTSTAMP:20260423T004642
CREATED:20250310T082036Z
LAST-MODIFIED:20250902T175039Z
UID:649-1758223800-1758231000@atelierfloralflorencelange.com
SUMMARY:Jeudi 18/09 à Choisy-en-Brie
DESCRIPTION:Atelier d’art floral avec Florence LANGE\n\n\n\n\n\nLaissez libre cours à votre imagination ! \napprenez à composer votre propre création florale dans une ambiance conviviale et chaleureuse. \n\n\n\n\n\nInscription à l’atelier :\n\n\nVeuillez activer JavaScript dans votre navigateur pour remplir ce formulaire.Veuillez activer JavaScript dans votre navigateur pour remplir ce formulaire.Nom *PrénomNomE-mail *		\n			| floral EN\n			\n		\n		CHOISY EN BRIE atelier floral | dates des jeudis d'ateliers souhaitées : *Jeudi 18 septembre 2025Jeudi 9 octobre 2025Jeudi 27 novembre 2025Jeudi 11 décembre 2025Jeudi 22 janvier 2026Jeudi 19 février 2026Jeudi 26 mars 2026Jeudi 9 avril 2026Jeudi 21 mai 2026Jeudi 25 juin 2026Envoyer  \n\n\n\nPaiement par chèque\, espèce ou CB en présentiel \n\n\n\nVous pouvez également vous inscrire au trimestre ou à l’année \n\n\n\nLe trimestre = 115\,00 € ou l’année complète= 385\,00 €
URL:https://atelierfloralflorencelange.com/event/15-mai-a-choisy-en-brie/
LOCATION:Choisy en Brie\, mairie de Choisy en Brie\, Choisy en Brie\, 77320\, France
CATEGORIES:cours floral
ATTACH;FMTTYPE=image/jpeg:https://atelierfloralflorencelange.com/wp-content/uploads/2025/03/CoursFloralFlorenceLANGE_1.jpg
END:VEVENT
BEGIN:VEVENT
DTSTART;TZID=Europe/Paris:20250923T200000
DTEND;TZID=Europe/Paris:20250923T220000
DTSTAMP:20260423T004642
CREATED:20250310T083848Z
LAST-MODIFIED:20250902T182517Z
UID:660-1758657600-1758664800@atelierfloralflorencelange.com
SUMMARY:Mardi 23/09 à Vaudoy-en-Brie
DESCRIPTION:Atelier d’art floral avec Florence LANGE\n\n\n\n\n\nLaissez libre cours à votre imagination ! \napprenez à composer votre propre création florale dans une ambiance conviviale et chaleureuse. \n\n\n\n\n\nInscription à l’atelier :\n\n\nVeuillez activer JavaScript dans votre navigateur pour remplir ce formulaire.Veuillez activer JavaScript dans votre navigateur pour remplir ce formulaire.		\n			floral atelier souhaitées\n			\n		\n		Nom *PrénomNomE-mail *VAUDOY EN BRIE atelier floral | dates des mardis d'ateliers souhaitées : *Mardi 23 septembre 2025Mardi 14 octobre 2025Mardi 18 novembre 2025Mardi 16 décembre 2025Mardi 20 janvier 2026Mardi 17 février 2026Mardi 17 mars 2026Mardi 14 avril 2026Mardi 19 mai 2026Mardi 16 juin 2026Envoyer  \n\n\n\nPaiement par chèque\, espèce ou CB en présentiel \n\n\n\nVous pouvez également vous inscrire au trimestre ou à l’année \n\n\n\nLe trimestre = 115\,00 € ou l’année complète= 385\,00 €
URL:https://atelierfloralflorencelange.com/event/17-juin-a-vaudoy-en-brie/
LOCATION:Vaudoy en Brie\, salle de la mairie\, Vaudoy en Brie 77141\, France
CATEGORIES:cours floral
ATTACH;FMTTYPE=image/jpeg:https://atelierfloralflorencelange.com/wp-content/uploads/2025/03/Atelier-floral-florence-LANGE.jpg
END:VEVENT
BEGIN:VEVENT
DTSTART;TZID=Europe/Paris:20250925T143000
DTEND;TZID=Europe/Paris:20250925T170000
DTSTAMP:20260423T004642
CREATED:20250310T084950Z
LAST-MODIFIED:20250902T181002Z
UID:668-1758810600-1758819600@atelierfloralflorencelange.com
SUMMARY:Jeudi 25/09 à Barbonne Fayel
DESCRIPTION:  \n\nAtelier d’art floral avec Florence LANGE\n\n\n\n\n\nLaissez libre cours à votre imagination ! \napprenez à composer votre propre création florale dans une ambiance conviviale et chaleureuse. \n\n\n\n\n\nInscription à l’atelier :\n\n\nVeuillez activer JavaScript dans votre navigateur pour remplir ce formulaire.Veuillez activer JavaScript dans votre navigateur pour remplir ce formulaire.Nom *PrénomNom		\n			d'ateliers des BARBONNE\n			\n		\n		E-mail *BARBONNE FAYEL atelier floral | dates des jeudis d'ateliers souhaitées : *Jeudi 25 septembre 2025Jeudi 30 octobre 2025Jeudi 20 novembre 2025Jeudi 18 décembre 2025Jeudi 29 janvier 2026Jeudi 12 février 2026Jeudi 19 mars 2026Jeudi 16 avril 2026Jeudi 28 mai 2026Jeudi 18 juin 2026Envoyer  \n\n\n\nPaiement par chèque\, espèce ou CB en présentiel \n\n\n\nVous pouvez également vous inscrire au trimestre ou à l’année \n\n\n\nLe trimestre = 115\,00 € ou l’année complète= 385\,00 €
URL:https://atelierfloralflorencelange.com/event/22-mai-a-barbonne-fayel/
LOCATION:Barbonne Fayel\, salles des fêtes\, Barbonne Fayel 51320\, France
CATEGORIES:cours floral
ATTACH;FMTTYPE=image/jpeg:https://atelierfloralflorencelange.com/wp-content/uploads/2025/03/CoursFloralFlorenceLANGE_5.jpg
END:VEVENT
BEGIN:VEVENT
DTSTART;TZID=Europe/Paris:20250926T143000
DTEND;TZID=Europe/Paris:20250926T170000
DTSTAMP:20260423T004642
CREATED:20250310T080710Z
LAST-MODIFIED:20250902T183834Z
UID:632-1758897000-1758906000@atelierfloralflorencelange.com
SUMMARY:Vendredi 26/09 à Provins
DESCRIPTION:Atelier d’art floral avec Florence LANGE\n\n\n\n\n\nLaissez libre cours à votre imagination ! \napprenez à composer votre propre création florale dans une ambiance conviviale et chaleureuse. \n\n\n\n\n\nInscription à l’atelier :\n\n\nVeuillez activer JavaScript dans votre navigateur pour remplir ce formulaire.Veuillez activer JavaScript dans votre navigateur pour remplir ce formulaire.		\n			dates des :\n			\n		\n		Nom *PrénomNomE-mail *PROVINS inscription atelier floral | dates des vendredis d'ateliers souhaitées : *Vendredi 26 septembre 2025Vendredi 31 octobre 2025Vendredi 28 novembre 2025Vendredi 5 décembre 2025Vendredi 30 janvier 2026Vendredi 13 février 2026Vendredi 27 mars 2026Vendredi 10 avril 2026Vendredi 29 mai 2026Vendredi 19 juin 2026Envoyer  \n\n\n\nPaiement par chèque\, espèce ou CB en présentiel \n\n\n\nVous pouvez également vous inscrire au trimestre ou à l’année \n\n\n\nLe trimestre = 115\,00 € ou l’année complète= 385\,00 €
URL:https://atelierfloralflorencelange.com/event/27-juin-a-provins/
LOCATION:Provins\, salle André Dujard\, Provins 77160\, France
CATEGORIES:cours floral
ATTACH;FMTTYPE=image/jpeg:https://atelierfloralflorencelange.com/wp-content/uploads/2025/03/CoursFloralFlorenceLANGE_2.jpg
END:VEVENT
END:VCALENDAR