BEGIN:VCALENDAR
VERSION:2.0
PRODID:-//Atelier floral Florence LANGE - ECPv6.15.11//NONSGML v1.0//EN
CALSCALE:GREGORIAN
METHOD:PUBLISH
X-WR-CALNAME:Atelier floral Florence LANGE
X-ORIGINAL-URL:https://atelierfloralflorencelange.com
X-WR-CALDESC:Évènements pour Atelier floral Florence LANGE
REFRESH-INTERVAL;VALUE=DURATION:PT1H
X-Robots-Tag:noindex
X-PUBLISHED-TTL:PT1H
BEGIN:VTIMEZONE
TZID:Europe/Paris
BEGIN:DAYLIGHT
TZOFFSETFROM:+0100
TZOFFSETTO:+0200
TZNAME:CEST
DTSTART:20240331T010000
END:DAYLIGHT
BEGIN:STANDARD
TZOFFSETFROM:+0200
TZOFFSETTO:+0100
TZNAME:CET
DTSTART:20241027T010000
END:STANDARD
BEGIN:DAYLIGHT
TZOFFSETFROM:+0100
TZOFFSETTO:+0200
TZNAME:CEST
DTSTART:20250330T010000
END:DAYLIGHT
BEGIN:STANDARD
TZOFFSETFROM:+0200
TZOFFSETTO:+0100
TZNAME:CET
DTSTART:20251026T010000
END:STANDARD
BEGIN:DAYLIGHT
TZOFFSETFROM:+0100
TZOFFSETTO:+0200
TZNAME:CEST
DTSTART:20260329T010000
END:DAYLIGHT
BEGIN:STANDARD
TZOFFSETFROM:+0200
TZOFFSETTO:+0100
TZNAME:CET
DTSTART:20261025T010000
END:STANDARD
END:VTIMEZONE
BEGIN:VEVENT
DTSTART;TZID=Europe/Paris:20251010T143000
DTEND;TZID=Europe/Paris:20251010T170000
DTSTAMP:20260423T004518
CREATED:20250310T081444Z
LAST-MODIFIED:20250902T110352Z
UID:640-1760106600-1760115600@atelierfloralflorencelange.com
SUMMARY:Vendredi 10/10 à Esternay
DESCRIPTION:Atelier d’art floral avec Florence LANGE\n\n\n\n\n\nLaissez libre cours à votre imagination ! \napprenez à composer votre propre création florale dans une ambiance conviviale et chaleureuse. \n\n\n\n\n\nInscription à l’atelier :\n\n\nVeuillez activer JavaScript dans votre navigateur pour remplir ce formulaire.Veuillez activer JavaScript dans votre navigateur pour remplir ce formulaire.		\n			| ESTERNAY Nom\n			\n		\n		Nom *PrénomNomE-mail *ESTERNAY atelier floral | dates des vendredis d'ateliers : *Vendredi 12 septembre 2025Vendredi 10 octobre 2025Vendredi 7 novembre 2025Vendredi 12 décembre 2025Vendredi 23 janvier 2026Vendredi 27 février 2026Vendredi 13 mars 2026Vendredi 3 avril 2026Vendredi 15 mai 2026Vendredi 12 juin 2026Envoyer  \n\n\n\nPaiement par chèque\, espèce ou CB en présentiel \n\n\n\nVous pouvez également vous inscrire au trimestre ou à l’année \n\n\n\nLe trimestre = 115\,00 € ou l’année complète= 385\,00 €
URL:https://atelierfloralflorencelange.com/event/30-mai-a-esternay/
LOCATION:Esternay\, salle MTL\, Esternay 51320\, France
CATEGORIES:cours floral
ATTACH;FMTTYPE=image/jpeg:https://atelierfloralflorencelange.com/wp-content/uploads/2025/03/CoursFloralFlorenceLANGE_3.jpg
END:VEVENT
BEGIN:VEVENT
DTSTART;TZID=Europe/Paris:20251014T200000
DTEND;TZID=Europe/Paris:20251014T220000
DTSTAMP:20260423T004518
CREATED:20250310T083615Z
LAST-MODIFIED:20250902T182540Z
UID:657-1760472000-1760479200@atelierfloralflorencelange.com
SUMMARY:Mardi 14/10 à Vaudoy-en-Brie
DESCRIPTION:Atelier d’art floral avec Florence LANGE\n\n\n\n\n\nLaissez libre cours à votre imagination ! \napprenez à composer votre propre création florale dans une ambiance conviviale et chaleureuse. \n\n\n\n\n\nInscription à l’atelier :\n\n\nVeuillez activer JavaScript dans votre navigateur pour remplir ce formulaire.Veuillez activer JavaScript dans votre navigateur pour remplir ce formulaire.Nom *PrénomNom		\n			d'ateliers VAUDOY BRIE\n			\n		\n		E-mail *VAUDOY EN BRIE atelier floral | dates des mardis d'ateliers souhaitées : *Mardi 23 septembre 2025Mardi 14 octobre 2025Mardi 18 novembre 2025Mardi 16 décembre 2025Mardi 20 janvier 2026Mardi 17 février 2026Mardi 17 mars 2026Mardi 14 avril 2026Mardi 19 mai 2026Mardi 16 juin 2026Envoyer  \n\n\n\nPaiement par chèque\, espèce ou CB en présentiel \n\n\n\nVous pouvez également vous inscrire au trimestre ou à l’année \n\n\n\nLe trimestre = 115\,00 € ou l’année complète= 385\,00 €
URL:https://atelierfloralflorencelange.com/event/13-mai-a-vaudoy-en-brie/
LOCATION:Vaudoy en Brie\, salle de la mairie\, Vaudoy en Brie 77141\, France
CATEGORIES:cours floral
ATTACH;FMTTYPE=image/jpeg:https://atelierfloralflorencelange.com/wp-content/uploads/2025/03/Atelier-floral-florence-LANGE.jpg
END:VEVENT
BEGIN:VEVENT
DTSTART;TZID=Europe/Paris:20251022T140000
DTEND;TZID=Europe/Paris:20251022T170000
DTSTAMP:20260423T004518
CREATED:20250327T092934Z
LAST-MODIFIED:20250902T191000Z
UID:925-1761141600-1761152400@atelierfloralflorencelange.com
SUMMARY:Mercredi 22/10 Atelier bois
DESCRIPTION:Transformez\, rénovez\, créez ! Offrez une seconde vie à vos meubles grâce à cet atelier rénove bois \n\n\n\nThématique : rénovation de vos petits meubles à l’atelier de florence \n\n\n\n\n\n\n\n\n\nInscription à l’atelier :\n\n\nVeuillez activer JavaScript dans votre navigateur pour remplir ce formulaire.Veuillez activer JavaScript dans votre navigateur pour remplir ce formulaire.		\n			des : atelier\n			\n		\n		Nom *PrénomNomE-mail *SANSY-LES-PROVINS atelier bois | dates des mercredis et samedis d'ateliers souhaitées : *Mercredi 22 octobre 2025Samedi 25 octobre 2025Samedi 4 novembre 2025Mercredi 5 novembre 2025Samedi 22 novembre 2025Mercredi 26 novembre 2025Samedi 29 novembre 2025Mercredi 14 janvier 2026Mercredi 3 décembre 2025Mercredi 4 février 2026Samedi 7 février 2026Mercredi 18 mars 2026Samedi 21 mars 2026Mercredi 8 avril 2026Samedi 11 avril 2026Mercredi 10 juin 2026Samedi 13 juin 2026Envoyer  \n\n\n\n\n\nPaiement Par chèque\, espèce ou CB en présentiel
URL:https://atelierfloralflorencelange.com/event/2-juillet-atelier-bois/
LOCATION:Sancy-les-Provins\, 10 rue du pont\, 77320 Sancy les Provins\, France
CATEGORIES:atelier bois
ATTACH;FMTTYPE=image/jpeg:https://atelierfloralflorencelange.com/wp-content/uploads/2025/03/AtelierBOISlFlorenceLANGE_1.jpg
END:VEVENT
BEGIN:VEVENT
DTSTART;TZID=Europe/Paris:20251025T140000
DTEND;TZID=Europe/Paris:20251025T170000
DTSTAMP:20260423T004518
CREATED:20250310T145959Z
LAST-MODIFIED:20250902T190948Z
UID:780-1761400800-1761411600@atelierfloralflorencelange.com
SUMMARY:Samedi 25/10 Atelier bois
DESCRIPTION:Transformez\, rénovez\, créez ! Offrez une seconde vie à vos meubles grâce à cet atelier rénove bois \n  \nInscription à l’atelier :\n\n\n\nVeuillez activer JavaScript dans votre navigateur pour remplir ce formulaire.Veuillez activer JavaScript dans votre navigateur pour remplir ce formulaire.		\n			samedis SANSY-LES-PROVINS bois\n			\n		\n		Nom *PrénomNomE-mail *SANSY-LES-PROVINS atelier bois | dates des mercredis et samedis d'ateliers souhaitées : *Mercredi 22 octobre 2025Samedi 25 octobre 2025Samedi 4 novembre 2025Mercredi 5 novembre 2025Samedi 22 novembre 2025Mercredi 26 novembre 2025Samedi 29 novembre 2025Mercredi 14 janvier 2026Mercredi 3 décembre 2025Mercredi 4 février 2026Samedi 7 février 2026Mercredi 18 mars 2026Samedi 21 mars 2026Mercredi 8 avril 2026Samedi 11 avril 2026Mercredi 10 juin 2026Samedi 13 juin 2026Envoyer  \n\n\n\nPaiement par chèque\, espèce ou CB en présentiel \n\n\n\nVous pouvez également vous inscrire au trimestre ou à l’année \n\n\n\nLe trimestre = 115\,00 € ou l’année complète= 385\,00 €
URL:https://atelierfloralflorencelange.com/event/4-juin-atelier-bois/
LOCATION:Sancy-les-Provins\, 10 rue du pont\, 77320 Sancy les Provins\, France
CATEGORIES:atelier bois
ATTACH;FMTTYPE=image/jpeg:https://atelierfloralflorencelange.com/wp-content/uploads/2025/03/AtelierBOISlFlorenceLANGE_1.jpg
END:VEVENT
BEGIN:VEVENT
DTSTART;TZID=Europe/Paris:20251030T143000
DTEND;TZID=Europe/Paris:20251030T170000
DTSTAMP:20260423T004518
CREATED:20250310T085228Z
LAST-MODIFIED:20250902T180927Z
UID:671-1761834600-1761843600@atelierfloralflorencelange.com
SUMMARY:Jeudi 30/10 à Barbonne Fayel
DESCRIPTION:  \n\nAtelier d’art floral avec Florence LANGE\n\n\n\n\n\nLaissez libre cours à votre imagination ! \napprenez à composer votre propre création florale dans une ambiance conviviale et chaleureuse. \n\n\n\n\n\nInscription à l’atelier :\n\n\nVeuillez activer JavaScript dans votre navigateur pour remplir ce formulaire.Veuillez activer JavaScript dans votre navigateur pour remplir ce formulaire.Nom *PrénomNomE-mail *		\n			: souhaitées jeudis\n			\n		\n		BARBONNE FAYEL atelier floral | dates des jeudis d'ateliers souhaitées : *Jeudi 25 septembre 2025Jeudi 30 octobre 2025Jeudi 20 novembre 2025Jeudi 18 décembre 2025Jeudi 29 janvier 2026Jeudi 12 février 2026Jeudi 19 mars 2026Jeudi 16 avril 2026Jeudi 28 mai 2026Jeudi 18 juin 2026Envoyer  \n\n\n\nPaiement par chèque\, espèce ou CB en présentiel \n\n\n\nVous pouvez également vous inscrire au trimestre ou à l’année \n\n\n\nLe trimestre = 115\,00 € ou l’année complète= 385\,00 €
URL:https://atelierfloralflorencelange.com/event/19-juin-a-barbonne-fayel/
LOCATION:Barbonne Fayel\, salles des fêtes\, Barbonne Fayel 51320\, France
CATEGORIES:cours floral
ATTACH;FMTTYPE=image/jpeg:https://atelierfloralflorencelange.com/wp-content/uploads/2025/03/CoursFloralFlorenceLANGE_5.jpg
END:VEVENT
BEGIN:VEVENT
DTSTART;TZID=Europe/Paris:20251031T143000
DTEND;TZID=Europe/Paris:20251031T170000
DTSTAMP:20260423T004518
CREATED:20250310T080410Z
LAST-MODIFIED:20250902T184042Z
UID:628-1761921000-1761930000@atelierfloralflorencelange.com
SUMMARY:Vendredi 31/10 à Provins
DESCRIPTION:Atelier d’art floral avec Florence LANGE\n\n\n\n\n\nLaissez libre cours à votre imagination ! \napprenez à composer votre propre création florale dans une ambiance conviviale et chaleureuse. \n\n\n\n\n\nInscription à l’atelier :\n\n\nVeuillez activer JavaScript dans votre navigateur pour remplir ce formulaire.Veuillez activer JavaScript dans votre navigateur pour remplir ce formulaire.Nom *PrénomNom		\n			inscription vendredis E-mail\n			\n		\n		E-mail *PROVINS inscription atelier floral | dates des vendredis d'ateliers souhaitées : *Vendredi 26 septembre 2025Vendredi 31 octobre 2025Vendredi 28 novembre 2025Vendredi 5 décembre 2025Vendredi 30 janvier 2026Vendredi 13 février 2026Vendredi 27 mars 2026Vendredi 10 avril 2026Vendredi 29 mai 2026Vendredi 19 juin 2026Envoyer  \n\n\n\nPaiement par chèque\, espèce ou CB en présentiel \n\n\n\nVous pouvez également vous inscrire au trimestre ou à l’année \n\n\n\nLe trimestre = 115\,00 € ou l’année complète= 385\,00 €
URL:https://atelierfloralflorencelange.com/event/23-mai-a-provins/
LOCATION:Provins\, salle André Dujard\, Provins 77160\, France
CATEGORIES:cours floral
ATTACH;FMTTYPE=image/jpeg:https://atelierfloralflorencelange.com/wp-content/uploads/2025/03/CoursFloralFlorenceLANGE_2.jpg
END:VEVENT
END:VCALENDAR