BEGIN:VCALENDAR
VERSION:2.0
PRODID:-//Atelier floral Florence LANGE - ECPv6.15.11//NONSGML v1.0//EN
CALSCALE:GREGORIAN
METHOD:PUBLISH
X-WR-CALNAME:Atelier floral Florence LANGE
X-ORIGINAL-URL:https://atelierfloralflorencelange.com
X-WR-CALDESC:Évènements pour Atelier floral Florence LANGE
REFRESH-INTERVAL;VALUE=DURATION:PT1H
X-Robots-Tag:noindex
X-PUBLISHED-TTL:PT1H
BEGIN:VTIMEZONE
TZID:Europe/Paris
BEGIN:DAYLIGHT
TZOFFSETFROM:+0100
TZOFFSETTO:+0200
TZNAME:CEST
DTSTART:20240331T010000
END:DAYLIGHT
BEGIN:STANDARD
TZOFFSETFROM:+0200
TZOFFSETTO:+0100
TZNAME:CET
DTSTART:20241027T010000
END:STANDARD
BEGIN:DAYLIGHT
TZOFFSETFROM:+0100
TZOFFSETTO:+0200
TZNAME:CEST
DTSTART:20250330T010000
END:DAYLIGHT
BEGIN:STANDARD
TZOFFSETFROM:+0200
TZOFFSETTO:+0100
TZNAME:CET
DTSTART:20251026T010000
END:STANDARD
BEGIN:DAYLIGHT
TZOFFSETFROM:+0100
TZOFFSETTO:+0200
TZNAME:CEST
DTSTART:20260329T010000
END:DAYLIGHT
BEGIN:STANDARD
TZOFFSETFROM:+0200
TZOFFSETTO:+0100
TZNAME:CET
DTSTART:20261025T010000
END:STANDARD
END:VTIMEZONE
BEGIN:VEVENT
DTSTART;TZID=Europe/Paris:20251205T143000
DTEND;TZID=Europe/Paris:20251205T170000
DTSTAMP:20260420T231738
CREATED:20250304T084007Z
LAST-MODIFIED:20250902T184131Z
UID:479-1764945000-1764954000@atelierfloralflorencelange.com
SUMMARY:Vendredi 5/12 à Provins
DESCRIPTION:Atelier d’art floral avec Florence LANGE\n\n\n\n\n\nLaissez libre cours à votre imagination ! \napprenez à composer votre propre création florale dans une ambiance conviviale et chaleureuse. \n\n\n\n\n\nInscription à l’atelier :\n\n\nVeuillez activer JavaScript dans votre navigateur pour remplir ce formulaire.Veuillez activer JavaScript dans votre navigateur pour remplir ce formulaire.		\n			E-mail d'ateliers :\n			\n		\n		Nom *PrénomNomE-mail *PROVINS inscription atelier floral | dates des vendredis d'ateliers souhaitées : *Vendredi 26 septembre 2025Vendredi 31 octobre 2025Vendredi 28 novembre 2025Vendredi 5 décembre 2025Vendredi 30 janvier 2026Vendredi 13 février 2026Vendredi 27 mars 2026Vendredi 10 avril 2026Vendredi 29 mai 2026Vendredi 19 juin 2026Envoyer  \n\n\n\nPaiement par chèque\, espèce ou CB en présentiel \n\n\n\nVous pouvez également vous inscrire au trimestre ou à l’année \n\n\n\nLe trimestre = 115\,00 € ou l’année complète= 385\,00 €
URL:https://atelierfloralflorencelange.com/event/cours-dart-floral-a-magny-le-hongre/
LOCATION:Provins\, salle André Dujard\, Provins 77160\, France
CATEGORIES:cours floral
ATTACH;FMTTYPE=image/jpeg:https://atelierfloralflorencelange.com/wp-content/uploads/2025/03/CoursFloralFlorenceLANGE_2.jpg
END:VEVENT
BEGIN:VEVENT
DTSTART;TZID=Europe/Paris:20251211T193000
DTEND;TZID=Europe/Paris:20251211T210000
DTSTAMP:20260420T231738
CREATED:20250306T143750Z
LAST-MODIFIED:20250902T175405Z
UID:536-1765481400-1765486800@atelierfloralflorencelange.com
SUMMARY:Jeudi 11/12 à Choisy en Brie
DESCRIPTION:Atelier d’art floral avec Florence LANGE\n\n\n\n\n\nLaissez libre cours à votre imagination ! \napprenez à composer votre propre création florale dans une ambiance conviviale et chaleureuse. \n\n\n\n\n\nInscription à l’atelier :\n\n\nVeuillez activer JavaScript dans votre navigateur pour remplir ce formulaire.Veuillez activer JavaScript dans votre navigateur pour remplir ce formulaire.Nom *PrénomNomE-mail *		\n			EN atelier des\n			\n		\n		CHOISY EN BRIE atelier floral | dates des jeudis d'ateliers souhaitées : *Jeudi 18 septembre 2025Jeudi 9 octobre 2025Jeudi 27 novembre 2025Jeudi 11 décembre 2025Jeudi 22 janvier 2026Jeudi 19 février 2026Jeudi 26 mars 2026Jeudi 9 avril 2026Jeudi 21 mai 2026Jeudi 25 juin 2026Envoyer  \n\n\n\nPaiement par chèque\, espèce ou CB en présentiel \n\n\n\nVous pouvez également vous inscrire au trimestre ou à l’année \n\n\n\nLe trimestre = 115\,00 € ou l’année complète= 385\,00 €
URL:https://atelierfloralflorencelange.com/event/27-mars-a-choisy-en-brie/
LOCATION:Choisy en Brie\, mairie de Choisy en Brie\, Choisy en Brie\, 77320\, France
CATEGORIES:cours floral
ATTACH;FMTTYPE=image/jpeg:https://atelierfloralflorencelange.com/wp-content/uploads/2025/03/CoursFloralFlorenceLANGE_1.jpg
END:VEVENT
BEGIN:VEVENT
DTSTART;TZID=Europe/Paris:20251212T143000
DTEND;TZID=Europe/Paris:20251212T170000
DTSTAMP:20260420T231738
CREATED:20250902T111201Z
LAST-MODIFIED:20250902T111517Z
UID:955-1765549800-1765558800@atelierfloralflorencelange.com
SUMMARY:Vendredi 12/12 à Esternay
DESCRIPTION:Atelier d’art floral avec Florence LANGE\n\n\n\n\n\nLaissez libre cours à votre imagination ! apprenez à composer votre propre création florale dans une ambiance conviviale et chaleureuse. \n\n\n\n\n\nInscription à l’atelier :\n\n\nVeuillez activer JavaScript dans votre navigateur pour remplir ce formulaire.Veuillez activer JavaScript dans votre navigateur pour remplir ce formulaire.Nom *PrénomNomE-mail *		\n			E-mail atelier |\n			\n		\n		ESTERNAY atelier floral | dates des vendredis d'ateliers : *Vendredi 12 septembre 2025Vendredi 10 octobre 2025Vendredi 7 novembre 2025Vendredi 12 décembre 2025Vendredi 23 janvier 2026Vendredi 27 février 2026Vendredi 13 mars 2026Vendredi 3 avril 2026Vendredi 15 mai 2026Vendredi 12 juin 2026Envoyer  \n\n\n\nPaiement par chèque\, espèce ou CB en présentiel \n\n\n\nVous pouvez également vous inscrire au trimestre ou à l’année \n\n\n\nLe trimestre = 115\,00 € ou l’année complète= 385\,00 €
URL:https://atelierfloralflorencelange.com/event/vendredi-12-12-a-esternay-2/
LOCATION:Esternay\, salle MTL\, Esternay 51320\, France
CATEGORIES:cours floral
ATTACH;FMTTYPE=image/jpeg:https://atelierfloralflorencelange.com/wp-content/uploads/2025/03/CoursFloralFlorenceLANGE_3.jpg
END:VEVENT
BEGIN:VEVENT
DTSTART;TZID=Europe/Paris:20251216T200000
DTEND;TZID=Europe/Paris:20251216T220000
DTSTAMP:20260420T231738
CREATED:20250902T182832Z
LAST-MODIFIED:20250902T182832Z
UID:1026-1765915200-1765922400@atelierfloralflorencelange.com
SUMMARY:Mardi 16/12 à Vaudoy en Brie
DESCRIPTION:Atelier d’art floral avec Florence LANGE\n\n\nLaissez libre cours à votre imagination !\n\napprenez à composer votre propre création florale dans une ambiance conviviale et chaleureuse.\n\n\nInscription à l’atelier :\n\n\nVeuillez activer JavaScript dans votre navigateur pour remplir ce formulaire.Veuillez activer JavaScript dans votre navigateur pour remplir ce formulaire.Nom *PrénomNom		\n			Nom floral |\n			\n		\n		E-mail *VAUDOY EN BRIE atelier floral | dates des mardis d'ateliers souhaitées : *Mardi 23 septembre 2025Mardi 14 octobre 2025Mardi 18 novembre 2025Mardi 16 décembre 2025Mardi 20 janvier 2026Mardi 17 février 2026Mardi 17 mars 2026Mardi 14 avril 2026Mardi 19 mai 2026Mardi 16 juin 2026Envoyer  \n\n\n\nPaiement par chèque\, espèce ou CB en présentiel\n\n\n\nVous pouvez également vous inscrire au trimestre ou à l’année\n\n\n\nLe trimestre = 115\,00 € ou l’année complète= 385\,00 €
URL:https://atelierfloralflorencelange.com/event/mardi-16-12-a-vaudoy-en-brie/
LOCATION:Vaudoy en Brie\, salle de la mairie\, Vaudoy en Brie 77141\, France
CATEGORIES:cours floral
ATTACH;FMTTYPE=image/jpeg:https://atelierfloralflorencelange.com/wp-content/uploads/2025/03/Atelier-floral-florence-LANGE.jpg
END:VEVENT
BEGIN:VEVENT
DTSTART;TZID=Europe/Paris:20251218T143000
DTEND;TZID=Europe/Paris:20251218T170000
DTSTAMP:20260420T231738
CREATED:20250306T154227Z
LAST-MODIFIED:20250902T181134Z
UID:572-1766068200-1766077200@atelierfloralflorencelange.com
SUMMARY:Jeudi 18/12 à Barbonne Fayel
DESCRIPTION:Atelier d’art floral avec Florence LANGE\n\n\n\n\n\nLaissez libre cours à votre imagination ! \n\n\n\napprenez à composer votre propre création florale dans une ambiance conviviale et chaleureuse. \n\n\n\n\n\n\n\n\n\nInscription à l’atelier :\n\n\nVeuillez activer JavaScript dans votre navigateur pour remplir ce formulaire.Veuillez activer JavaScript dans votre navigateur pour remplir ce formulaire.Nom *PrénomNom		\n			E-mail des d'ateliers\n			\n		\n		E-mail *BARBONNE FAYEL atelier floral | dates des jeudis d'ateliers souhaitées : *Jeudi 25 septembre 2025Jeudi 30 octobre 2025Jeudi 20 novembre 2025Jeudi 18 décembre 2025Jeudi 29 janvier 2026Jeudi 12 février 2026Jeudi 19 mars 2026Jeudi 16 avril 2026Jeudi 28 mai 2026Jeudi 18 juin 2026Envoyer  \n\n\n\n\n\nPaiement Par chèque\, espèce ou CB en présentiel \n\n\n\nVous pouvez également vous inscrire au trimestre ou à l’année \n\n\n\nLe trimestre = 115\,00 € ou l’année complète= 385\,00 € \n\n\n\n 
URL:https://atelierfloralflorencelange.com/event/20-mars-a-barbonne-fayel/
CATEGORIES:cours floral
ATTACH;FMTTYPE=image/jpeg:https://atelierfloralflorencelange.com/wp-content/uploads/2025/03/CoursFloralFlorenceLANGE_5.jpg
END:VEVENT
END:VCALENDAR