BEGIN:VCALENDAR
VERSION:2.0
PRODID:-//Atelier floral Florence LANGE - ECPv6.15.11//NONSGML v1.0//EN
CALSCALE:GREGORIAN
METHOD:PUBLISH
X-ORIGINAL-URL:https://atelierfloralflorencelange.com
X-WR-CALDESC:Évènements pour Atelier floral Florence LANGE
REFRESH-INTERVAL;VALUE=DURATION:PT1H
X-Robots-Tag:noindex
X-PUBLISHED-TTL:PT1H
BEGIN:VTIMEZONE
TZID:Europe/Paris
BEGIN:DAYLIGHT
TZOFFSETFROM:+0100
TZOFFSETTO:+0200
TZNAME:CEST
DTSTART:20250330T010000
END:DAYLIGHT
BEGIN:STANDARD
TZOFFSETFROM:+0200
TZOFFSETTO:+0100
TZNAME:CET
DTSTART:20251026T010000
END:STANDARD
BEGIN:DAYLIGHT
TZOFFSETFROM:+0100
TZOFFSETTO:+0200
TZNAME:CEST
DTSTART:20260329T010000
END:DAYLIGHT
BEGIN:STANDARD
TZOFFSETFROM:+0200
TZOFFSETTO:+0100
TZNAME:CET
DTSTART:20261025T010000
END:STANDARD
BEGIN:DAYLIGHT
TZOFFSETFROM:+0100
TZOFFSETTO:+0200
TZNAME:CEST
DTSTART:20270328T010000
END:DAYLIGHT
BEGIN:STANDARD
TZOFFSETFROM:+0200
TZOFFSETTO:+0100
TZNAME:CET
DTSTART:20271031T010000
END:STANDARD
END:VTIMEZONE
BEGIN:VEVENT
DTSTART;TZID=Europe/Paris:20260610T140000
DTEND;TZID=Europe/Paris:20260610T170000
DTSTAMP:20260420T191849
CREATED:20250902T190044Z
LAST-MODIFIED:20250902T191103Z
UID:1078-1781100000-1781110800@atelierfloralflorencelange.com
SUMMARY:Mercredi 10/06 Atelier bois
DESCRIPTION:Transformez\, rénovez\, créez ! Offrez une seconde vie à vos meubles grâce à cet atelier rénove bois \n\n\n\nThématique : rénovation de vos petits meubles à l’atelier de florence \n\n\n\n\n\n\n\n\n\nInscription à l’atelier :\n\n\nVeuillez activer JavaScript dans votre navigateur pour remplir ce formulaire.Veuillez activer JavaScript dans votre navigateur pour remplir ce formulaire.Nom *PrénomNom		\n			samedis bois Nom\n			\n		\n		E-mail *SANSY-LES-PROVINS atelier bois | dates des mercredis et samedis d'ateliers souhaitées : *Mercredi 22 octobre 2025Samedi 25 octobre 2025Samedi 4 novembre 2025Mercredi 5 novembre 2025Samedi 22 novembre 2025Mercredi 26 novembre 2025Samedi 29 novembre 2025Mercredi 14 janvier 2026Mercredi 3 décembre 2025Mercredi 4 février 2026Samedi 7 février 2026Mercredi 18 mars 2026Samedi 21 mars 2026Mercredi 8 avril 2026Samedi 11 avril 2026Mercredi 10 juin 2026Samedi 13 juin 2026Envoyer  \n\n\n\n\n\nPaiement Par chèque\, espèce ou CB en présentiel
URL:https://atelierfloralflorencelange.com/event/mercredi-10-06-atelier-bois/
LOCATION:Sancy-les-Provins\, 10 rue du pont\, 77320 Sancy les Provins\, France
CATEGORIES:atelier bois
ATTACH;FMTTYPE=image/jpeg:https://atelierfloralflorencelange.com/wp-content/uploads/2025/03/AtelierBOISlFlorenceLANGE_1.jpg
END:VEVENT
BEGIN:VEVENT
DTSTART;TZID=Europe/Paris:20260612T143000
DTEND;TZID=Europe/Paris:20260612T170000
DTSTAMP:20260420T191850
CREATED:20250902T111819Z
LAST-MODIFIED:20250902T181601Z
UID:970-1781274600-1781283600@atelierfloralflorencelange.com
SUMMARY:Vendredi 12/06 à Esternay
DESCRIPTION:Atelier d’art floral avec Florence LANGE\n\n\n\n\n\nLaissez libre cours à votre imagination ! apprenez à composer votre propre création florale dans une ambiance conviviale et chaleureuse. \n\n\n\n\n\nInscription à l’atelier :\n\n\nVeuillez activer JavaScript dans votre navigateur pour remplir ce formulaire.Veuillez activer JavaScript dans votre navigateur pour remplir ce formulaire.Nom *PrénomNomE-mail *		\n			: d'ateliers atelier\n			\n		\n		ESTERNAY atelier floral | dates des vendredis d'ateliers : *Vendredi 12 septembre 2025Vendredi 10 octobre 2025Vendredi 7 novembre 2025Vendredi 12 décembre 2025Vendredi 23 janvier 2026Vendredi 27 février 2026Vendredi 13 mars 2026Vendredi 3 avril 2026Vendredi 15 mai 2026Vendredi 12 juin 2026Envoyer  \n\n\n\nPaiement par chèque\, espèce ou CB en présentiel \n\n\n\nVous pouvez également vous inscrire au trimestre ou à l’année \n\n\n\nLe trimestre = 115\,00 € ou l’année complète= 385\,00 €
URL:https://atelierfloralflorencelange.com/event/vendredi-12-06-a-esternay/
LOCATION:Esternay\, salle MTL\, Esternay 51320\, France
CATEGORIES:cours floral
ATTACH;FMTTYPE=image/jpeg:https://atelierfloralflorencelange.com/wp-content/uploads/2025/03/CoursFloralFlorenceLANGE_3.jpg
END:VEVENT
BEGIN:VEVENT
DTSTART;TZID=Europe/Paris:20260613T140000
DTEND;TZID=Europe/Paris:20260613T170000
DTSTAMP:20260420T191850
CREATED:20250327T093059Z
LAST-MODIFIED:20250902T191130Z
UID:927-1781359200-1781370000@atelierfloralflorencelange.com
SUMMARY:Samedi 13/06 Atelier bois
DESCRIPTION:Transformez\, rénovez\, créez ! Offrez une seconde vie à vos meubles grâce à cet atelier rénove bois \n\n\n\nThématique : rénovation de vos petits meubles à l’atelier de florence \n\n\n\n\n\n\n\n\n\nInscription à l’atelier :\n\n\nVeuillez activer JavaScript dans votre navigateur pour remplir ce formulaire.Veuillez activer JavaScript dans votre navigateur pour remplir ce formulaire.Nom *PrénomNomE-mail *		\n			Nom et samedis\n			\n		\n		SANSY-LES-PROVINS atelier bois | dates des mercredis et samedis d'ateliers souhaitées : *Mercredi 22 octobre 2025Samedi 25 octobre 2025Samedi 4 novembre 2025Mercredi 5 novembre 2025Samedi 22 novembre 2025Mercredi 26 novembre 2025Samedi 29 novembre 2025Mercredi 14 janvier 2026Mercredi 3 décembre 2025Mercredi 4 février 2026Samedi 7 février 2026Mercredi 18 mars 2026Samedi 21 mars 2026Mercredi 8 avril 2026Samedi 11 avril 2026Mercredi 10 juin 2026Samedi 13 juin 2026Envoyer  \n\n\n\n\n\nPaiement Par chèque\, espèce ou CB en présentiel
URL:https://atelierfloralflorencelange.com/event/5-juillet-atelier-bois/
LOCATION:Sancy-les-Provins\, 10 rue du pont\, 77320 Sancy les Provins\, France
CATEGORIES:atelier bois
ATTACH;FMTTYPE=image/jpeg:https://atelierfloralflorencelange.com/wp-content/uploads/2025/03/AtelierBOISlFlorenceLANGE_1.jpg
END:VEVENT
BEGIN:VEVENT
DTSTART;TZID=Europe/Paris:20260616T200000
DTEND;TZID=Europe/Paris:20260616T220000
DTSTAMP:20260420T191850
CREATED:20250902T183517Z
LAST-MODIFIED:20250902T183517Z
UID:1038-1781640000-1781647200@atelierfloralflorencelange.com
SUMMARY:Mardi 16/06 à Vaudoy en Brie
DESCRIPTION:Atelier d’art floral avec Florence LANGE\n\n\nLaissez libre cours à votre imagination !\n\napprenez à composer votre propre création florale dans une ambiance conviviale et chaleureuse.\n\n\nInscription à l’atelier :\n\n\nVeuillez activer JavaScript dans votre navigateur pour remplir ce formulaire.Veuillez activer JavaScript dans votre navigateur pour remplir ce formulaire.Nom *PrénomNomE-mail *		\n			BRIE floral Nom\n			\n		\n		VAUDOY EN BRIE atelier floral | dates des mardis d'ateliers souhaitées : *Mardi 23 septembre 2025Mardi 14 octobre 2025Mardi 18 novembre 2025Mardi 16 décembre 2025Mardi 20 janvier 2026Mardi 17 février 2026Mardi 17 mars 2026Mardi 14 avril 2026Mardi 19 mai 2026Mardi 16 juin 2026Envoyer  \n\n\n\nPaiement par chèque\, espèce ou CB en présentiel\n\n\n\nVous pouvez également vous inscrire au trimestre ou à l’année\n\n\n\nLe trimestre = 115\,00 € ou l’année complète= 385\,00 €
URL:https://atelierfloralflorencelange.com/event/mardi-16-06-a-vaudoy-en-brie/
LOCATION:Vaudoy en Brie\, salle de la mairie\, Vaudoy en Brie 77141\, France
CATEGORIES:cours floral
ATTACH;FMTTYPE=image/jpeg:https://atelierfloralflorencelange.com/wp-content/uploads/2025/03/Atelier-floral-florence-LANGE.jpg
END:VEVENT
BEGIN:VEVENT
DTSTART;TZID=Europe/Paris:20260618T143000
DTEND;TZID=Europe/Paris:20260618T170000
DTSTAMP:20260420T191850
CREATED:20250902T182137Z
LAST-MODIFIED:20250902T182137Z
UID:1020-1781793000-1781802000@atelierfloralflorencelange.com
SUMMARY:Jeudi 18/06 à Barbonne Fayel
DESCRIPTION:Atelier d’art floral avec Florence LANGE\n\n\nLaissez libre cours à votre imagination !\n\n\n\napprenez à composer votre propre création florale dans une ambiance conviviale et chaleureuse.\n\n\n\n\n\n\nInscription à l’atelier :\n Veuillez activer JavaScript dans votre navigateur pour remplir ce formulaire.Veuillez activer JavaScript dans votre navigateur pour remplir ce formulaire.Nom *PrénomNomE-mail *		\n			E-mail Nom |\n			\n		\n		BARBONNE FAYEL atelier floral | dates des jeudis d'ateliers souhaitées : *Jeudi 25 septembre 2025Jeudi 30 octobre 2025Jeudi 20 novembre 2025Jeudi 18 décembre 2025Jeudi 29 janvier 2026Jeudi 12 février 2026Jeudi 19 mars 2026Jeudi 16 avril 2026Jeudi 28 mai 2026Jeudi 18 juin 2026Envoyer   \n\n\n\nPaiement Par chèque\, espèce ou CB en présentiel\n\n\n\nVous pouvez également vous inscrire au trimestre ou à l’année\n\n\n\nLe trimestre = 115\,00 € ou l’année complète= 385\,00 €\n\n\n\n 
URL:https://atelierfloralflorencelange.com/event/jeudi-18-06-a-barbonne-fayel/
LOCATION:Barbonne Fayel\, salles des fêtes\, Barbonne Fayel 51320\, France
CATEGORIES:cours floral
ATTACH;FMTTYPE=image/jpeg:https://atelierfloralflorencelange.com/wp-content/uploads/2025/03/CoursFloralFlorenceLANGE_5.jpg
END:VEVENT
BEGIN:VEVENT
DTSTART;TZID=Europe/Paris:20260619T143000
DTEND;TZID=Europe/Paris:20260619T170000
DTSTAMP:20260420T191850
CREATED:20250902T185009Z
LAST-MODIFIED:20250902T185009Z
UID:1065-1781879400-1781888400@atelierfloralflorencelange.com
SUMMARY:Vendredi 19/06 à Provins
DESCRIPTION:Atelier d’art floral avec Florence LANGE\n\n\nLaissez libre cours à votre imagination ! apprenez à composer votre propre création florale dans une ambiance conviviale et chaleureuse.\n\n\nInscription à l’atelier :\n\n\nVeuillez activer JavaScript dans votre navigateur pour remplir ce formulaire.Veuillez activer JavaScript dans votre navigateur pour remplir ce formulaire.		\n			floral d'ateliers atelier\n			\n		\n		Nom *PrénomNomE-mail *PROVINS inscription atelier floral | dates des vendredis d'ateliers souhaitées : *Vendredi 26 septembre 2025Vendredi 31 octobre 2025Vendredi 28 novembre 2025Vendredi 5 décembre 2025Vendredi 30 janvier 2026Vendredi 13 février 2026Vendredi 27 mars 2026Vendredi 10 avril 2026Vendredi 29 mai 2026Vendredi 19 juin 2026Envoyer  \n\n\n\nPaiement par chèque\, espèce ou CB en présentiel\n\n\n\nVous pouvez également vous inscrire au trimestre ou à l’année\n\n\n\nLe trimestre = 115\,00 € ou l’année complète= 385\,00 €
URL:https://atelierfloralflorencelange.com/event/vendredi-19-06-a-provins/
LOCATION:Provins\, salle André Dujard\, Provins 77160\, France
CATEGORIES:cours floral
ATTACH;FMTTYPE=image/jpeg:https://atelierfloralflorencelange.com/wp-content/uploads/2025/03/CoursFloralFlorenceLANGE_2.jpg
END:VEVENT
BEGIN:VEVENT
DTSTART;TZID=Europe/Paris:20260625T193000
DTEND;TZID=Europe/Paris:20260625T210000
DTSTAMP:20260420T191850
CREATED:20250902T180412Z
LAST-MODIFIED:20250902T181551Z
UID:989-1782415800-1782421200@atelierfloralflorencelange.com
SUMMARY:Jeudi 25/06 à Choisy-en-Brie
DESCRIPTION:Atelier d’art floral avec Florence LANGE\n\n\n\n\n\nLaissez libre cours à votre imagination ! apprenez à composer votre propre création florale dans une ambiance conviviale et chaleureuse. \n\n\n\n\n\nInscription à l’atelier :\n\n\nVeuillez activer JavaScript dans votre navigateur pour remplir ce formulaire.Veuillez activer JavaScript dans votre navigateur pour remplir ce formulaire.Nom *PrénomNomE-mail *		\n			EN dates CHOISY\n			\n		\n		CHOISY EN BRIE atelier floral | dates des jeudis d'ateliers souhaitées : *Jeudi 18 septembre 2025Jeudi 9 octobre 2025Jeudi 27 novembre 2025Jeudi 11 décembre 2025Jeudi 22 janvier 2026Jeudi 19 février 2026Jeudi 26 mars 2026Jeudi 9 avril 2026Jeudi 21 mai 2026Jeudi 25 juin 2026Envoyer  \n\n\n\nPaiement par chèque\, espèce ou CB en présentiel \n\n\n\nVous pouvez également vous inscrire au trimestre ou à l’année \n\n\n\nLe trimestre = 115\,00 € ou l’année complète= 385\,00 €
URL:https://atelierfloralflorencelange.com/event/jeudi-25-06-a-choisy-en-brie/
LOCATION:Choisy en Brie\, mairie de Choisy en Brie\, Choisy en Brie\, 77320\, France
CATEGORIES:cours floral
ATTACH;FMTTYPE=image/jpeg:https://atelierfloralflorencelange.com/wp-content/uploads/2025/03/CoursFloralFlorenceLANGE_1.jpg
END:VEVENT
END:VCALENDAR